Workbook

Sheet Consolidated data
A1: Activity name (as entered) | B1: Entered by | C1: Lesson date | D1: Notes | E1: Year of study | F1: Curriculum | G1: Activity type | H1: Course title (teaching plan) | I1: Issues
A2: Modelli e tecniche per la valutazione del rischio per una industria sostenibile | B2: Maria Francesca Milazzo | C2: 46406 | E2: 3rd year (cycle XL) | F2: Industrial Eng. | G2: Elective | H2: Risk assessment models and techniques for a sustainable industry | I2: Time and room not specified
A3: Modelli e tecniche per la valutazione del rischio per una industria sostenibile | B3: Maria Francesca Milazzo | C3: 46413 | E3: 3rd year (cycle XL) | F3: Industrial Eng. | G3: Elective | H3: Risk assessment models and techniques for a sustainable industry | I3: Time and room not specified
A4: Evoluzione e applicazioni dei sistemi digitali riconfigurabili: dall'Apollo Guidance Computer ai dispositivi FPGA | B4: Carmine Ciofi | C4: 46462 | D4: 14:30-16:30; room to be determined | E4: 3rd year (cycle XL) | F4: Information Eng. | G4: Elective | H4: Evolution and applications of reconfigurable digital systems: from the Apollo Guidance Computer to FPGA devices
A5: Reti e protocolli per l'Industria 4.0 | B5: Giuseppe Campobello | C5: 46400 | D5: Classroom 316, 10AM-12PM | E5: 1st year (cycle XLII) | F5: Information Eng. | G5: Elective | H5: Networks and protocols for Industry 4.0
A6: Reti e protocolli per l'Industria 4.0 | B6: Giuseppe Campobello | C6: 46407 | D6: Classroom 316, 10AM-12PM | E6: 1st year (cycle XLII) | F6: Information Eng. | G6: Elective | H6: Networks and protocols for Industry 4.0
A7: Evoluzione e applicazioni dei sistemi digitali riconfigurabili: dall'Apollo Guidance Computer ai dispositivi FPGA | B7: Carmine Ciofi | C7: 46463 | D7: 14:30-16:30; room to be determined | E7: 3rd year (cycle XL) | F7: Information Eng. | G7: Elective | H7: Evolution and applications of reconfigurable digital systems: from the Apollo Guidance Computer to FPGA devices
A8: Reti e protocolli per l'Industria 4.0 | B8: Giuseppe Campobello | C8: 46414 | D8: Classroom 316, 10AM-12PM | E8: 1st year (cycle XLII) | F8: Information Eng. | G8: Elective | H8: Networks and protocols for Industry 4.0
A9: Evoluzione e applicazioni dei sistemi digitali riconfigurabili: dall'Apollo Guidance Computer ai dispositivi FPGA | B9: Carmine Ciofi | C9: 46464 | D9: 14:30-16:30; room to be determined | E9: 3rd year (cycle XL) | F9: Information Eng. | G9: Elective | H9: Evolution and applications of reconfigurable digital systems: from the Apollo Guidance Computer to FPGA devices
A10: Applicazione di una proposta di ricerca per Post Doctoral Fellowship Marie Sklodovska Curie Actions: stesura, sperimentazione e gestione (Mastronardo) | B10: Emanuela Mastronardo | C10: 46588 | D10: 9:00-12:00 on both days Room 426 | E10: 1st year (cycle XLII) | F10: All | G10: Complementary training | H10: Marie Sklodowska-Curie Actions Postdoctoral Fellowship proposal: drafting, testing and management | I10: Note says 'both days' but only one date was entered: second date missing
A11: Analisi e progettazione di giunzioni e strutture leggere, tradizionali e innovative-II anno, ciclo XLI | B11: Giulia Palomba | C11: 46518 | D11: 14:30-17:30 | E11: 2nd year (cycle XLI) | F11: Industrial Eng. | G11: Elective | H11: Analysis and design of traditional and innovative joints and lightweight structures
A12: Analisi e progettazione di giunzioni e strutture leggere, tradizionali e innovative-II anno, ciclo XLI | B12: Giulia Palomba | C12: 46519 | D12: 14:30-17:30 | E12: 2nd year (cycle XLI) | F12: Industrial Eng. | G12: Elective | H12: Analysis and design of traditional and innovative joints and lightweight structures
A13: Metallurgia leghe Ti e processi di manifattura additiva | B13: Andrea Mariano Sili | E13: 2nd year (cycle XLI) | F13: Industrial Eng. | G13: Elective | H13: Titanium alloys metallurgy and additive manufacturing techniques | I13: Lesson date not specified: row excluded from the calendar
A14: Ti alloys metallurgy and additive | B14: Andrea Mariano Sili | C14: 46450 | D14: Time: 16:00-18:00 Room: 318 | E14: 2nd year (cycle XLI) | F14: Industrial Eng. | G14: Elective | H14: Titanium alloys metallurgy and additive manufacturing techniques
A15: Ti alloys metallurgy and additive | B15: Andrea Mariano Sili | C15: 46457 | D15: Time: 16:00-18:00 Room: 318 | E15: 2nd year (cycle XLI) | F15: Industrial Eng. | G15: Elective | H15: Titanium alloys metallurgy and additive manufacturing techniques
A16: Ti alloys metallurgy and additive | B16: Andrea Mariano Sili | C16: 46464 | D16: Time: 16:00-18:00 Room: 318 | E16: 2nd year (cycle XLI) | F16: Industrial Eng. | G16: Elective | H16: Titanium alloys metallurgy and additive manufacturing techniques
A17: Advanced Biomass Conversion Processes for mobility and energy production | B17: Claudia Espro | C17: 46427 | D17: 10:00-13:00 | E17: 2nd year (cycle XLI) | F17: Industrial Eng. | G17: Elective | H17: Advanced biomass conversion processes for energy production and mobility
A18: Advanced Biomass Conversion Processes for mobility and energy production | B18: Claudia Espro | C18: 46428 | D18: 10:00-13:00 | E18: 2nd year (cycle XLI) | F18: Industrial Eng. | G18: Elective | H18: Advanced biomass conversion processes for energy production and mobility
A19: Valorizzazione e disseminazione dei risultati, della proprietà intellettuale e dell’accesso aperto ai dati e ai prodotti della ricerca | B19: Luigi Calabrese | C19: 46344 | D19: 15:00-18:00 | E19: 2nd year (cycle XLI) | F19: All | G19: Complementary training | H19: Exploitation and dissemination of results, intellectual property and open access to research data and outputs
A20: Valorizzazione e disseminazione dei risultati, della proprietà intellettuale e dell’accesso aperto ai dati e ai prodotti della ricerca | B20: Luigi Calabrese | C20: 46345 | D20: 15:00-18:00 | E20: 2nd year (cycle XLI) | F20: All | G20: Complementary training | H20: Exploitation and dissemination of results, intellectual property and open access to research data and outputs
A21: Transizione ecologica e digitale (Materiali e Tecnologie per l'economia circolare) | B21: Fabio Minutoli | C21: 46422 | D21: 9:00 AM – 12:00 PM Laboratory 303 (3rd floor, Block A) | E21: 1st year (cycle XLII) | F21: All | G21: Compulsory | H21: Ecological and digital transition (Materials and technologies for the circular economy)
A22: Transizione ecologica e digitale (Materiali e Tecnologie per l'economia circolare) | B22: Fabio Minutoli | C22: 46423 | D22: 9:00 AM – 12:00 PM Laboratory 303 (3rd floor, Block A) | E22: 1st year (cycle XLII) | F22: All | G22: Compulsory | H22: Ecological and digital transition (Materials and technologies for the circular economy)
A23: Nanocompositi a matrice polimerica | B23: Annamaria Visco | C23: 46429 | D23: 10:00-13:00, room 211 | E23: 1st year (cycle XLII) | F23: Industrial Eng. | G23: Elective | H23: Polymer matrix nanocomposites
A24: Nanocompositi a matrice polimerica | B24: Annamaria Visco | C24: 46430 | D24: 10:00-13:00, room 211 | E24: 1st year (cycle XLII) | F24: Industrial Eng. | G24: Elective | H24: Polymer matrix nanocomposites
A25: Sostenibilità ambientale mediante analisi di ciclo vita dei prodotti | B25: Felice Sfravara | C25: 46490 | D25: The lesson schedule will be agreed upon with the students. Each lesson will consist of a 3-hour block. | E25: 3rd year (cycle XL) | F25: Industrial Eng. | G25: Elective | H25: Environmental sustainability through product life cycle assessment
... A34: GESTIONE SOSTENIBILE DEL PATRIMONIO CULTURALE | B34: Adriana Arena | C34: 46420 | D34: 9:00-12:00, room 205 | E34: 1st year (cycle XLII) | F34: Civil Eng. and Architecture | G34: Elective | H34: Sustainable management of cultural heritage
A35: GESTIONE SOSTENIBILE DEL PATRIMONIO CULTURALE | B35: Adriana Arena | C35: 46406 | D35: 9:00-12:00, room 205 | E35: 1st year (cycle XLII) | F35: Civil Eng. and Architecture | G35: Elective | H35: Sustainable management of cultural heritage | I35: Duplicate date (same as row 33)
A36: Innovative catalytic processes for energy production and environmental protection | B36: Francesco Arena | C36: 46560 | D36: The lesson schedule is as follows: 15/06/2027 10:00-12:00 17/06/2027 10:00-12:00 22/06/2027 10:00-12:00 | E36: 2nd year (cycle XLI) | F36: Industrial Eng. | G36: Elective | H36: Innovative catalytic processes for energy production and environmental protection | I36: Dates entered inconsistent with the note (15/06, 17/06, 22/06): the calendar uses the dates in the note
A37: Innovative catalytic processes for energy production and environmental protection | B37: Francesco Arena | C37: 46560 | E37: 2nd year (cycle XLI) | F37: Industrial Eng. | G37: Elective | H37: Innovative catalytic processes for energy production and environmental protection | I37: Duplicate date (same as row 36); Dates entered inconsistent with the note (15/06, 17/06, 22/06): the calendar uses the dates in the note
A38: Innovazione e trasferimento tecnologico | B38: Vincenzo Corvello | C38: 46497 | E38: 3rd year (cycle XL) | F38: All | G38: Compulsory | H38: Innovation and technology transfer | I38: Time and room not specified
A39: Innovazione e trasferimento tecnologico | B39: Vincenzo Corvello | C39: 46484 | E39: 3rd year (cycle XL) | F39: All | G39: Compulsory | H39: Innovation and technology transfer | I39: Time and room not specified
A40: Innovazione e trasferimento tecnologico | B40: Vincenzo Corvello | C40: 46483 | E40: 3rd year (cycle XL) | F40: All | G40: Compulsory | H40: Innovation and technology transfer | I40: Time and room not specified
A41: Progettazione e pianificazione di una proposta progettuale per attività di ricerca | B41: Vincenzo Corvello | C41: 46463 | E41: 2nd year (cycle XLI) | F41: All | G41: Complementary training | H41: Design and planning of a research project proposal | I41: Time and room not specified
A42: Progettazione e pianificazione di una proposta progettuale per attività di ricerca | B42: Vincenzo Corvello | C42: 46464 | E42: 2nd year (cycle XLI) | F42: All | G42: Complementary training | H42: Design and planning of a research project proposal | I42: Time and room not specified
A43: Progettazione e pianificazione di una proposta progettuale per attività di ricerca | B43: Vincenzo Corvello | C43: 46456 | E43: 2nd year (cycle XLI) | F43: All | G43: Complementary training | H43: Design and planning of a research project proposal | I43: Time and room not specified
A44: Identificazione di sistemi dinamici non lineari | B44: Maria Gabriella Xibilia | C44: 46358 | D44: Students interested in the course must book 15 days in advance by email to mxibilia@unime.it, stating their degree programme. The lesson will be held in Prof. Xibilia's office, Block B, 7th floor, at 10:00. | E44: 2nd year (cycle XLI) | F44: Information Eng. | G44: Elective | H44: Identification of nonlinear dynamic systems
A45: Identificazione di sistemi dinamici non lineari | B45: Maria Gabriella Xibilia | C45: 46372 | E45: 2nd year (cycle XLI) | F45: Information Eng. | G45: Elective | H45: Identification of nonlinear dynamic systems
A46: Comportamento dei sistemi geotecnici soggetti ad azioni sismiche: analisi delle condizioni di sicurezza e valutazione delle prestazioni (parte I) | B46: Giovanni Biondi | C46: 46329 | E46: 2nd year (cycle XLI) | F46: Civil Eng. and Architecture | G46: Elective | H46: Behaviour of geotechnical systems under seismic actions: safety analysis and performance assessment | I46: Time and room not specified
A47: Comportamento dei sistemi geotecnici soggetti ad azioni sismiche: analisi delle condizioni di sicurezza e valutazione delle prestazioni (parte II) | B47: Giovanni Biondi | C47: 46330 | E47: 2nd year (cycle XLI) | F47: Civil Eng. and Architecture | G47: Elective | H47: Behaviour of geotechnical systems under seismic actions: safety analysis and performance assessment | I47: Time and room not specified
A48: Le tecniche di Decision Making | B48: Rosa Micale | C48: 46357 | D48: Lessons will be held in the MDSLAB room from 14:30 to 17:30 | E48: 2nd year (cycle XLI) | F48: All | G48: Compulsory | H48: Decision-making techniques
A49: Le tecniche di Decision Making | B49: Rosa Micale | C49: 46358 | D49: Lessons will be held in the MDSLAB room from 14:30 to 17:30 | E49: 2nd year (cycle XLI) | F49: All | G49: Compulsory | H49: Decision-making techniques
A50: Serendipity and Science: How an Open Mind and the Scientific Method Generate Discoveries | B50: Candida Milone | C50: 46533 | D50: 14:30-16:30 | E50: 1st year (cycle XLII) | F50: All | G50: Complementary training | H50: Serendipity and Science: How an Open Mind and the Scientific Method Generate Discoveries
A51: Serendipity and Science: How an Open Mind and the Scientific Method Generate Discoveries | B51: Candida Milone | C51: 46534 | D51: 14:30-16:30 | E51: 1st year (cycle XLII) | F51: All | G51: Complementary training | H51: Serendipity and Science: How an Open Mind and the Scientific Method Generate Discoveries
A52: Serendipity and Science: How an Open Mind and the Scientific Method Generate Discoveries | B52: Candida Milone | C52: 46532 | D52: 14:30-16:30 | E52: 1st year (cycle XLII) | F52: All | G52: Complementary training | H52: Serendipity and Science: How an Open Mind and the Scientific Method Generate Discoveries
A53: La simulazione ad eventi discreti | B53: Marco Lucio Scarpa | C53: 46499 | D53: Students interested in attending the course are required to send an email to mscarpa@unime.it at least 15 days in advance in order to arrange the venue and time | E53: 1st year (cycle XLII) | F53: Information Eng. | G53: Elective | H53: Discrete-event simulation
A54: La simulazione ad eventi discreti | B54: Marco Lucio Scarpa | C54: 46506 | E54: 1st year (cycle XLII) | F54: Information Eng. | G54: Elective | H54: Discrete-event simulation
A55: Modelli stocastici e simulazioni Monte Carlo (parte I) | B55: Brunella Bonaccorso | C55: 46428 | D55: 10:00-13:00 | E55: 2nd year (cycle XLI) | F55: All | G55: Compulsory | H55: Stochastic models and Monte Carlo simulations
A56: Modelli stocastici e simulazioni Monte Carlo (parte II) | B56: Brunella Bonaccorso | C56: 46435 | D56: 10:00-13:00 | E56: 2nd year (cycle XLI) | F56: All | G56: Compulsory | H56: Stochastic models and Monte Carlo simulations
A57: Mechanical gears vs magnetic gears | B57: Francesca Garescì | C57: 46413 | D57: time: 9:00-12:00 - room to be defined | E57: 1st year (cycle XLII) | F57: Industrial Eng. | G57: Elective | H57: Mechanical gears vs magnetic gears
A58: Mechanical gears vs magnetic gears | B58: Francesca Garescì | C58: 46415 | D58: time: 9:00-12:00 - room to be defined | E58: 1st year (cycle XLII) | F58: Industrial Eng. | G58: Elective | H58: Mechanical gears vs magnetic gears

Sheet Lesson calendar
A1: PhD Programme in Engineering – Lesson calendar, Academic Year 2026/27
A2: Generated from the dates entered by the lecturers (sheet 'Consolidated data') and the teaching plan (Annex 1). Updated 19/10/2026. Duplicate dates removed; for Prof. F. Arena's course the dates given in the note are used.
A4: No. | B4: Month | C4: Date | D4: Day | E4: Time | F4: Room | G4: Course | H4: Lecturer | I4: Year of study | J4: Curriculum | K4: Type | L4: Language | M4: Lesson | N4: Notices
A5: 1 | B5: November 2026 | C5: 46329 | D5: Tuesday | E5: TBA | F5: TBA | G5: Behaviour of geotechnical systems under seismic actions: safety analysis and performance assessment | H5: Giovanni Biondi | I5: 2nd year (cycle XLI) | J5: Civil Eng. and Architecture | K5: Elective | L5: Italian | M5: 1/2
A6: 2 | B6: November 2026 | C6: 46330 | D6: Wednesday | E6: TBA | F6: TBA | G6: Behaviour of geotechnical systems under seismic actions: safety analysis and performance assessment | H6: Giovanni Biondi | I6: 2nd year (cycle XLI) | J6: Civil Eng. and Architecture | K6: Elective | L6: Italian | M6: 2/2
A7: 3 | B7: November 2026 | C7: 46344 | D7: Wednesday | E7: 15:00-18:00 | F7: TBA | G7: Exploitation and dissemination of results, intellectual property and open access to research data and outputs | H7: Luigi Calabrese | I7: 2nd year (cycle XLI) | J7: All | K7: Complementary training | L7: English | M7: 1/2
A8: 4 | B8: November 2026 | C8: 46345 | D8: Thursday | E8: 15:00-18:00 | F8: TBA | G8: Exploitation and dissemination of results, intellectual property and open access to research data and outputs | H8: Luigi Calabrese | I8: 2nd year (cycle XLI) | J8: All | K8: Complementary training | L8: English | M8: 2/2
A9: 5 | B9: December 2026 | C9: 46357 | D9: Tuesday | E9: 14:30-17:30 | F9: MDSLAB room | G9: Decision-making techniques | H9: Rosa Micale | I9: 2nd year (cycle XLI) | J9: All | K9: Compulsory | L9: English | M9: 1/2
A10: 6 | B10: December 2026 | C10: 46358 | D10: Wednesday | E10: 14:30-17:30 | F10: MDSLAB room | G10: Decision-making techniques | H10: Rosa Micale | I10: 2nd year (cycle XLI) | J10: All | K10: Compulsory | L10: English | M10: 2/2
A11: 7 | B11: December 2026 | C11: 46358 | D11: Wednesday | E11: from 10:00 | F11: Prof. Xibilia's office (Block B, 7th floor) | G11: Identification of nonlinear dynamic systems | H11: Gabriella Xibilia | I11: 2nd year (cycle XLI) | J11: Information Eng. | K11: Elective | L11: English | M11: 1/2 | N11: Book by email 15 days in advance (mxibilia@unime.it)
A12: 8 | B12: December 2026 | C12: 46372 | D12: Wednesday | E12: from 10:00 | F12: Prof. Xibilia's office (Block B, 7th floor) | G12: Identification of nonlinear dynamic systems | H12: Gabriella Xibilia | I12: 2nd year (cycle XLI) | J12: Information Eng. | K12: Elective | L12: English | M12: 2/2 | N12: Book by email 15 days in advance (mxibilia@unime.it)
A13: 9 | B13: January 2027 | C13: 46400 | D13: Wednesday | E13: 10:00-12:00 | F13: Room 316 | G13: Networks and protocols for Industry 4.0 | H13: Giuseppe Campobello | I13: 1st year (cycle XLII) | J13: Information Eng. | K13: Elective | L13: English | M13: 1/3
A14: 10 | B14: January 2027 | C14: 46406 | D14: Tuesday | E14: 09:00-12:00 | F14: Room 205 | G14: Sustainable management of cultural heritage | H14: Adriana Arena | I14: 1st year (cycle XLII) | J14: Civil Eng. and Architecture | K14: Elective | L14: Italian | M14: 1/2
A15: 11 | B15: January 2027 | C15: 46406 | D15: Tuesday | E15: TBA | F15: TBA | G15: Risk assessment models and techniques for a sustainable industry | H15: M. Francesca Milazzo | I15: 3rd year (cycle XL) | J15: Industrial Eng. | K15: Elective | L15: English | M15: 1/2
A16: 12 | B16: January 2027 | C16: 46407 | D16: Wednesday | E16: 10:00-12:00 | F16: Room 316 | G16: Networks and protocols for Industry 4.0 | H16: Giuseppe Campobello | I16: 1st year (cycle XLII) | J16: Information Eng. | K16: Elective | L16: English | M16: 2/3
A17: 13 | B17: January 2027 | C17: 46413 | D17: Tuesday | E17: 09:00-12:00 | F17: TBD | G17: Mechanical gears vs magnetic gears | H17: Francesca Garescì | I17: 1st year (cycle XLII) | J17: Industrial Eng. | K17: Elective | L17: English | M17: 1/2
A18: 14 | B18: January 2027 | C18: 46413 | D18: Tuesday | E18: TBA | F18: TBA | G18: Risk assessment models and techniques for a sustainable industry | H18: M. Francesca Milazzo | I18: 3rd year (cycle XL) | J18: Industrial Eng. | K18: Elective | L18: English | M18: 2/2
A19: 15 | B19: January 2027 | C19: 46414 | D19: Wednesday | E19: 10:00-12:00 | F19: Room 316 | G19: Networks and protocols for Industry 4.0 | H19: Giuseppe Campobello | I19: 1st year (cycle XLII) | J19: Information Eng. | K19: Elective | L19: English | M19: 3/3
A20: 16 | B20: January 2027 | C20: 46415 | D20: Thursday | E20: 09:00-12:00 | F20: TBD | G20: Mechanical gears vs magnetic gears | H20: Francesca Garescì | I20: 1st year (cycle XLII) | J20: Industrial Eng. | K20: Elective | L20: English | M20: 2/2
A21: 17 | B21: February 2027 | C21: 46420 | D21: Tuesday | E21: 09:00-12:00 | F21: Room 205 | G21: Sustainable management of cultural heritage | H21: Adriana Arena | I21: 1st year (cycle XLII) | J21: Civil Eng. and Architecture | K21: Elective | L21: Italian | M21: 2/2
A22: 18 | B22: February 2027 | C22: 46422 | D22: Thursday | E22: 09:00-12:00 | F22: Lab 303 (3rd floor, Block A) | G22: Ecological and digital transition (Materials and technologies for the circular economy) | H22: Fabio Minutoli | I22: 1st year (cycle XLII) | J22: All | K22: Compulsory | L22: English | M22: 1/2
A23: 19 | B23: February 2027 | C23: 46423 | D23: Friday | E23: 09:00-12:00 | F23: Lab 303 (3rd floor, Block A) | G23: Ecological and digital transition (Materials and technologies for the circular economy) | H23: Fabio Minutoli | I23: 1st year (cycle XLII) | J23: All | K23: Compulsory | L23: English | M23: 2/2
A24: 20 | B24: February 2027 | C24: 46427 | D24: Tuesday | E24: 10:00-13:00 | F24: TBA | G24: Advanced biomass conversion processes for energy production and mobility | H24: Claudia Espro | I24: 2nd year (cycle XLI) | J24: Industrial Eng. | K24: Elective | L24: Italian | M24: 1/2
A25: 21 | B25: February 2027 | C25: 46428 | D25: Wednesday | E25: 10:00-13:00 | F25: TBA | G25: Stochastic models and Monte Carlo simulations | H25: Brunella Bonaccorso | I25: 2nd year (cycle XLI) | J25: All | K25: Compulsory | L25: English | M25: 1/2 | N25: Possible overlap with Claudia Espro (10:00-13:00)
A26: 22 | B26: February 2027 | C26: 46428 | D26: Wednesday | E26: 10:00-13:00 | F26: TBA | G26: Advanced biomass conversion processes for energy production and mobility | H26: Claudia Espro | I26: 2nd year (cycle XLI) | J26: Industrial Eng. | K26: Elective | L26: Italian | M26: 2/2 | N26: Possible overlap with Brunella Bonaccorso (10:00-13:00)
A27: 23 | B27: February 2027 | C27: 46429 | D27: Thursday | E27: 10:00-13:00 | F27: Room 211 | G27: Polymer matrix nanocomposites | H27: Annamaria Visco | I27: 1st year (cycle XLII) | J27: Industrial Eng. | K27: Elective | L27: English | M27: 1/2
A28: 24 | B28: February 2027 | C28: 46430 | D28: Friday | E28: 10:00-13:00 | F28: Room 211 | G28: Polymer matrix nanocomposites | H28: Annamaria Visco | I28: 1st year (cycle XLII) | J28: Industrial Eng. | K28: Elective | L28: English | M28: 2/2
A29: 25 | B29: February 2027 | C29: 46434 | D29: Tuesday | E29: 10:00-13:00 | F29: TBA | G29: On-demand manufacturing and prototyping in extreme environments and resource-limited contexts | H29: Guido Di Bella | I29: 1st year (cycle XLII) | J29: All | K29: Compulsory | L29: English | M29: 1/2
A30: 26 | B30: February 2027 | C30: 46435 | D30: Wednesday | E30: 10:00-13:00 | F30: TBA | G30: Stochastic models and Monte Carlo simulations | H30: Brunella Bonaccorso | I30: 2nd year (cycle XLI) | J30: All | K30: Compulsory | L30: English | M30: 2/2
A31: 27 | B31: February 2027 | C31: 46435 | D31: Wednesday | E31: 10:00-13:00 | F31: TBA | G31: On-demand manufacturing and prototyping in extreme environments and resource-limited contexts | H31: Guido Di Bella | I31: 1st year (cycle XLII) | J31: All | K31: Compulsory | L31: English | M31: 2/2
A32: 28 | B32: March 2027 | C32: 46450 | D32: Thursday | E32: 16:00-18:00 | F32: Room 318 | G32: Titanium alloys metallurgy and additive manufacturing techniques | H32: Andrea Mariano Sili | I32: 2nd year (cycle XLI) | J32: Industrial Eng. | K32: Elective | L32: Italian | M32: 1/3
A33: 29 | B33: March 2027 | C33: 46456 | D33: Wednesday | E33: TBA | F33: TBA | G33: Design and planning of a research project proposal | H33: Vincenzo Corvello | I33: 2nd year (cycle XLI) | J33: All | K33: Complementary training | L33: English | M33: 1/3
A34: 30 | B34: March 2027 | C34: 46457 | D34: Thursday | E34: 16:00-18:00 | F34: Room 318 | G34: Titanium alloys metallurgy and additive manufacturing techniques | H34: Andrea Mariano Sili | I34: 2nd year (cycle XLI) | J34: Industrial Eng. | K34: Elective | L34: Italian | M34: 2/3
A35: 31 | B35: March 2027 | C35: 46462 | D35: Tuesday | E35: 14:30-16:30 | F35: TBD | G35: Evolution and applications of reconfigurable digital systems: from the Apollo Guidance Computer to FPGA devices | H35: Carmine Ciofi | I35: 3rd year (cycle XL) | J35: Information Eng. | K35: Elective | L35: English | M35: 1/3
A36: 32 | B36: March 2027 | C36: 46463 | D36: Wednesday | E36: 14:30-16:30 | F36: TBD | G36: Evolution and applications of reconfigurable digital systems: from the Apollo Guidance Computer to FPGA devices | H36: Carmine Ciofi | I36: 3rd year (cycle XL) | J36: Information Eng. | K36: Elective | L36: English | M36: 2/3
A37: 33 | B37: March 2027 | C37: 46463 | D37: Wednesday | E37: TBA | F37: TBA | G37: Design and planning of a research project proposal | H37: Vincenzo Corvello | I37: 2nd year (cycle XLI) | J37: All | K37: Complementary training | L37: English | M37: 2/3
A38: 34 | B38: March 2027 | C38: 46464 | D38: Thursday | E38: 14:30-16:30 | F38: TBD | G38: Evolution and applications of reconfigurable digital systems: from the Apollo Guidance Computer to FPGA devices | H38: Carmine Ciofi | I38: 3rd year (cycle XL) | J38: Information Eng. | K38: Elective | L38: English | M38: 3/3
A39: 35 | B39: March 2027 | C39: 46464 | D39: Thursday | E39: 16:00-18:00 | F39: Room 318 | G39: Titanium alloys metallurgy and additive manufacturing techniques | H39: Andrea Mariano Sili | I39: 2nd year (cycle XLI) | J39: Industrial Eng. | K39: Elective | L39: Italian | M39: 3/3 | N39: Possible overlap with Vincenzo Corvello (time n/a)
A40: 36 | B40: March 2027 | C40: 46464 | D40: Thursday | E40: TBA | F40: TBA | G40: Design and planning of a research project proposal | H40: Vincenzo Corvello | I40: 2nd year (cycle XLI) | J40: All | K40: Complementary training | L40: English | M40: 3/3 | N40: Possible overlap with Andrea Mariano Sili (16:00-18:00)
A41: 37 | B41: April 2027 | C41: 46483 | D41: Tuesday | E41: TBA | F41: TBA | G41: Innovation and technology transfer | H41: Vincenzo Corvello | I41: 3rd year (cycle XL) | J41: All | K41: Compulsory | L41: English | M41: 1/3
A42: 38 | B42: April 2027 | C42: 46484 | D42: Wednesday | E42: TBA | F42: TBA | G42: Innovation and technology transfer | H42: Vincenzo Corvello | I42: 3rd year (cycle XL) | J42: All | K42: Compulsory | L42: English | M42: 2/3
A43: 39 | B43: April 2027 | C43: 46490 | D43: Tuesday | E43: To be agreed (3 h) | F43: TBA | G43: Environmental sustainability through product life cycle assessment | H43: Felice Sfravara | I43: 3rd year (cycle XL) | J43: Industrial Eng. | K43: Elective | L43: English | M43: 1/2 | N43: Time to be agreed with the PhD students
A44: 40 | B44: April 2027 | C44: 46491 | D44: Wednesday | E44: 10:00-13:00 | F44: TBD | G44: Measurement uncertainty estimation in experimental activities | H44: Fabrizio Freni | I44: 3rd year (cycle XL) | J44: Information Eng. | K44: Elective | L44: English | M44: 1/2
A45: 41 | B45: April 2027 | C45: 46492 | D45: Thursday | E45: To be agreed (3 h) | F45: TBA | G45: Environmental sustainability through product life cycle assessment | H45: Felice Sfravara | I45: 3rd year (cycle XL) | J45: Industrial Eng. | K45: Elective | L45: English | M45: 2/2 | N45: Time to be agreed with the PhD students
A46: 42 | B46: April 2027 | C46: 46497 | D46: Tuesday | E46: TBA | F46: TBA | G46: Innovation and technology transfer | H46: Vincenzo Corvello | I46: 3rd year (cycle XL) | J46: All | K46: Compulsory | L46: English | M46: 3/3
A47: 43 | B47: April 2027 | C47: 46498 | D47: Wednesday | E47: 10:00-13:00 | F47: TBD | G47: Measurement uncertainty estimation in experimental activities | H47: Fabrizio Freni | I47: 3rd year (cycle XL) | J47: Information Eng. | K47: Elective | L47: English | M47: 2/2
A48: 44 | B48: April 2027 | C48: 46499 | D48: Thursday | E48: To be agreed | F48: To be agreed | G48: Discrete-event simulation | H48: Marco Lucio Scarpa | I48: 1st year (cycle XLII) | J48: Information Eng. | K48: Elective | L48: English | M48: 1/2 | N48: Email the lecturer at least 15 days in advance (mscarpa@unime.it) to arrange room and time
A49: 45 | B49: April 2027 | C49: 46506 | D49: Thursday | E49: To be agreed | F49: To be agreed | G49: Discrete-event simulation | H49: Marco Lucio Scarpa | I49: 1st year (cycle XLII) | J49: Information Eng. | K49: Elective | L49: English | M49: 2/2 | N49: Email the lecturer at least 15 days in advance (mscarpa@unime.it) to arrange room and time
A50: 46 | B50: May 2027 | C50: 46518 | D50: Tuesday | E50: 14:30-17:30 | F50: TBA | G50: Analysis and design of traditional and innovative joints and lightweight structures | H50: Giulia Palomba | I50: 2nd year (cycle XLI) | J50: Industrial Eng. | K50: Elective | L50: Italian | M50: 1/2
A51: 47 | B51: May 2027 | C51: 46519 | D51: Wednesday | E51: 14:30-17:30 | F51: TBA | G51: Analysis and design of traditional and innovative joints and lightweight structures | H51: Giulia Palomba | I51: 2nd year (cycle XLI) | J51: Industrial Eng. | K51: Elective | L51: Italian | M51: 2/2
A52: 48 | B52: May 2027 | C52: 46532 | D52: Tuesday | E52: 14:30-16:30 | F52: TBA | G52: Serendipity and Science: How an Open Mind and the Scientific Method Generate Discoveries | H52: Candida Milone | I52: 1st year (cycle XLII) | J52: All | K52: Complementary training | L52: English | M52: 1/3
A53: 49 | B53: May 2027 | C53: 46533 | D53: Wednesday | E53: 14:30-16:30 | F53: TBA | G53: Serendipity and Science: How an Open Mind and the Scientific Method Generate Discoveries | H53: Candida Milone | I53: 1st year (cycle XLII) | J53: All | K53: Complementary training | L53: English | M53: 2/3
A54: 50 | B54: May 2027 | C54: 46534 | D54: Thursday | E54: 14:30-16:30 | F54: TBA | G54: Serendipity and Science: How an Open Mind and the Scientific Method Generate Discoveries | H54: Candida Milone | I54: 1st year (cycle XLII) | J54: All | K54: Complementary training | L54: English | M54: 3/3
A55: 51 | B55: June 2027 | C55: 46546 | D55: Tuesday | E55: 09:00-12:00 | F55: Room 743 | G55: Cybersecurity in cyber physical systems | H55: Francesco Longo | I55: 2nd year (cycle XLI) | J55: Information Eng. | K55: Elective | L55: English | M55: 1/2
A56: 52 | B56: June 2027 | C56: 46547 | D56: Wednesday | E56: 09:00-12:00 | F56: Room 743 | G56: Cybersecurity in cyber physical systems | H56: Francesco Longo | I56: 2nd year (cycle XLI) | J56: Information Eng. | K56: Elective | L56: English | M56: 2/2
A57: 53 | B57: June 2027 | C57: 46553 | D57: Tuesday | E57: 10:00-12:00 | F57: TBA | G57: Innovative catalytic processes for energy production and environmental protection | H57: Francesco Arena | I57: 2nd year (cycle XLI) | J57: Industrial Eng. | K57: Elective | L57: Italian | M57: 1/3
A58: 54 | B58: June 2027 | C58: 46555 | D58: Thursday | E58: 10:00-12:00 | F58: TBA | G58: Innovative catalytic processes for energy production and environmental protection | H58: Francesco Arena | I58: 2nd year (cycle XLI) | J58: Industrial Eng. | K58: Elective | L58: Italian | M58: 2/3
A59: 55 | B59: June 2027 | C59: 46560 | D59: Tuesday | E59: 10:00-12:00 | F59: TBA | G59: Innovative catalytic processes for energy production and environmental protection | H59: Francesco Arena | I59: 2nd year (cycle XLI) | J59: Industrial Eng. | K59: Elective | L59: Italian | M59: 3/3
A60: 56 | B60: July 2027 | C60: 46588 | D60: Tuesday | E60: 09:00-12:00 | F60: Room 426 | G60: Marie Sklodowska-Curie Actions Postdoctoral Fellowship proposal: drafting, testing and management | H60: Emanuela Mastronardo | I60: 1st year (cycle XLII) | J60: All | K60: Complementary training | L60: English | M60: 1/1 | N60: Second day not yet entered
A62: Colour legend: | C62: 1st year (cycle XLII) | E62: 2nd year (cycle XLI) | G62: 3rd year (cycle XL)

Sheet Monthly calendar
A1: Monthly lesson calendar – Academic Year 2026/27
A2: Colours by year of study: blue = 1st year · green = 2nd year · orange = 3rd year · grey = more than one year on the same day
A4: NOVEMBER 2026
A5: Monday | B5: Tuesday | C5: Wednesday | D5: Thursday | E5: Friday | F5: Saturday | G5: Sunday
G6: 1
A7: 2 | B7: 3 • time n/a [2nd year – Civil Eng. & Arch.] Biondi: Behaviour of geotechnical systems under seismic actions… | C7: 4 • time n/a [2nd year – Civil Eng. & Arch.] Biondi: Behaviour of geotechnical systems under seismic actions… | D7: 5 | E7: 6 | F7: 7 | G7: 8
A8: 9 | B8: 10 | C8: 11 | D8: 12 | E8: 13 | F8: 14 | G8: 15
A9: 16 | B9: 17 | C9: 18 • 15:00-18:00 [2nd year] Calabrese: Exploitation and dissemination of results, intellectual… | D9: 19 • 15:00-18:00 [2nd year] Calabrese: Exploitation and dissemination of results, intellectual… | E9: 20 | F9: 21 | G9: 22
A10: 23 | B10: 24 | C10: 25 | D10: 26 | E10: 27 | F10: 28 | G10: 29
A11: 30
A13: DECEMBER 2026
A14: Monday | B14: Tuesday | C14: Wednesday | D14: Thursday | E14: Friday | F14: Saturday | G14: Sunday
B15: 1 • 14:30-17:30 [2nd year] Micale: Decision-making techniques | C15: 2 • 14:30-17:30 [2nd year] Micale: Decision-making techniques • from 10:00 [2nd year – Information] Xibilia: Identification of nonlinear dynamic systems | D15: 3 | E15: 4 | F15: 5 | G15: 6
A16: 7 | B16: 8 | C16: 9 | D16: 10 | E16: 11 | F16: 12 | G16: 13
A17: 14 | B17: 15 | C17: 16 • from 10:00 [2nd year – Information] Xibilia: Identification of nonlinear dynamic systems | D17: 17 | E17: 18 | F17: 19 | G17: 20
A18: 21 | B18: 22 | C18: 23 | D18: 24 | E18: 25 | F18: 26 | G18: 27
A19: 28 | B19: 29 | C19: 30 | D19: 31
A21: JANUARY 2027
A22: Monday | B22: Tuesday | C22: Wednesday | D22: Thursday | E22: Friday | F22: Saturday | G22: Sunday
E23: 1 | F23: 2 | G23: 3
A24: 4 | B24: 5 | C24: 6 | D24: 7 | E24: 8 | F24: 9 | G24: 10
A25: 11 | B25: 12 | C25: 13 • 10:00-12:00 [1st year – Information] Campobello: Networks and protocols for Industry 4.0 | D25: 14 | E25: 15 | F25: 16 | G25: 17
A26: 18 | B26: 19 • 09:00-12:00 [1st year – Civil Eng. & Arch.] Adriana Arena: Sustainable management of cultural heritage • time n/a [3rd year – Industrial] Milazzo: Risk assessment models and techniques for a sustainable… | C26: 20 • 10:00-12:00 [1st year – Information] Campobello: Networks and protocols for Industry 4.0 | D26: 21 | E26: 22 | F26: 23 | G26: 24
A27: 25 | B27: 26 • 09:00-12:00 [1st year – Industrial] Garescì: Mechanical gears vs magnetic gears • time n/a [3rd year – Industrial] Milazzo: Risk assessment models and techniques for a sustainable… | C27: 27 • 10:00-12:00 [1st year – Information] Campobello: Networks and protocols for Industry 4.0 | D27: 28 • 09:00-12:00 [1st year – Industrial] Garescì: Mechanical gears vs magnetic gears | E27: 29 | F27: 30 | G27: 31
A29: FEBRUARY 2027
A30: Monday | B30: Tuesday | C30: Wednesday | D30: Thursday | E30: Friday | F30: Saturday | G30: Sunday
A31: 1 | B31: 2 • 09:00-12:00 [1st year – Civil Eng. & Arch.] Adriana Arena: Sustainable management of cultural heritage | C31: 3 | D31: 4 • 09:00-12:00 [1st year] Minutoli: Ecological and digital transition (Materials and techno… | E31: 5 • 09:00-12:00 [1st year] Minutoli: Ecological and digital transition (Materials and techno… | F31: 6 | G31: 7
A32: 8 | B32: 9 • 10:00-13:00 [2nd year – Industrial] Espro: Advanced biomass conversion processes for energy produc… | C32: 10 • 10:00-13:00 [2nd year] Bonaccorso: Stochastic models and Monte Carlo simulations • 10:00-13:00 [2nd year – Industrial] Espro: Advanced biomass conversion processes for energy produc… | D32: 11 • 10:00-13:00 [1st year – Industrial] Visco: Polymer matrix nanocomposites | E32: 12 • 10:00-13:00 [1st year – Industrial] Visco: Polymer matrix nanocomposites | F32: 13 | G32: 14
A33: 15 | B33: 16 • 10:00-13:00 [1st year] Bella: On-demand manufacturing and prototyping in extreme envi… | C33: 17 • 10:00-13:00 [2nd year] Bonaccorso: Stochastic models and Monte Carlo simulations • 10:00-13:00 [1st year] Bella: On-demand manufacturing and prototyping in extreme envi… | D33: 18 | E33: 19 | F33: 20 | G33: 21
A34: 22 | B34: 23 | C34: 24 | D34: 25 | E34: 26 | F34: 27 | G34: 28
A36: MARCH 2027
A37: Monday | B37: Tuesday | C37: Wednesday | D37: Thursday | E37: Friday | F37: Saturday | G37: Sunday
A38: 1 | B38: 2 | C38: 3 | D38: 4 • 16:00-18:00 [2nd year – Industrial] Sili: Titanium alloys metallurgy and additive manufacturing t… | E38: 5 | F38: 6 | G38: 7
A39: 8 | B39: 9 | C39: 10 • time n/a [2nd year] Corvello: Design and planning of a research project proposal | D39: 11 • 16:00-18:00 [2nd year – Industrial] Sili: Titanium alloys metallurgy and additive manufacturing t… | E39: 12 | F39: 13 | G39: 14
A40: 15 | B40: 16 • 14:30-16:30 [3rd year – Information] Ciofi: Evolution and applications of reconfigurable digital sy… | C40: 17 • 14:30-16:30 [3rd year – Information] Ciofi: Evolution and applications of reconfigurable digital sy… • time n/a [2nd year] Corvello: Design and planning of a research project proposal | D40: 18 • 14:30-16:30 [3rd year – Information] Ciofi: Evolution and applications of reconfigurable digital sy… • 16:00-18:00 [2nd year – Industrial] Sili: Titanium alloys metallurgy and additive manufacturing t… • time n/a [2nd year] Corvello: Design and planning of a research project proposal | E40: 19 | F40: 20 | G40: 21
A41: 22 | B41: 23 | C41: 24 | D41: 25 | E41: 26 | F41: 27 | G41: 28
A42: 29 | B42: 30 | C42: 31
A44: APRIL 2027
A45: Monday | B45: Tuesday | C45: Wednesday | D45: Thursday | E45: Friday | F45: Saturday | G45: Sunday
D46: 1 | E46: 2 | F46: 3 | G46: 4
A47: 5 | B47: 6 • time n/a [3rd year] Corvello: Innovation and technology transfer | C47: 7 • time n/a [3rd year] Corvello: Innovation and technology transfer | D47: 8 | E47: 9 | F47: 10 | G47: 11
A48: 12 | B48: 13 • To be agreed (3 h) [3rd year – Industrial] Sfravara: Environmental sustainability through product life cycle… | C48: 14 • 10:00-13:00 [3rd year – Information] Freni: Measurement uncertainty estimation in experimental acti… | D48: 15 • To be agreed (3 h) [3rd year – Industrial] Sfravara: Environmental sustainability through product life cycle… | E48: 16 | F48: 17 | G48: 18
A49: 19 | B49: 20 • time n/a [3rd year] Corvello: Innovation and technology transfer | C49: 21 • 10:00-13:00 [3rd year – Information] Freni: Measurement uncertainty estimation in experimental acti… | D49: 22 • To be agreed [1st year – Information] Scarpa: Discrete-event simulation | E49: 23 | F49: 24 | G49: 25
A50: 26 | B50: 27 | C50: 28 | D50: 29 • To be agreed [1st year – Information] Scarpa: Discrete-event simulation | E50: 30
A52: MAY 2027
A53: Monday | B53: Tuesday | C53: Wednesday | D53: Thursday | E53: Friday | F53: Saturday | G53: Sunday
F54: 1 | G54: 2
A55: 3 | B55: 4 | C55: 5 | D55: 6 | E55: 7 | F55: 8 | G55: 9
A56: 10 | B56: 11 • 14:30-17:30 [2nd year – Industrial] Palomba: Analysis and design of traditional and innovative joint… | C56: 12 • 14:30-17:30 [2nd year – Industrial] Palomba: Analysis and design of traditional and innovative joint… | D56: 13 | E56: 14 | F56: 15 | G56: 16
A57: 17 | B57: 18 | C57: 19 | D57: 20 | E57: 21 | F57: 22 | G57: 23
A58: 24 | B58: 25 • 14:30-16:30 [1st year] Milone: Serendipity and Science: How an Open Mind and the Scien… | C58: 26 • 14:30-16:30 [1st year] Milone: Serendipity and Science: How an Open Mind and the Scien… | D58: 27 • 14:30-16:30 [1st year] Milone: Serendipity and Science: How an Open Mind and the Scien… | E58: 28 | F58: 29 | G58: 30
A59: 31
A61: JUNE 2027
A62: Monday | B62: Tuesday | C62: Wednesday | D62: Thursday | E62: Friday | F62: Saturday | G62: Sunday
B63: 1 | C63: 2 | D63: 3 | E63: 4 | F63: 5 | G63: 6
A64: 7 | B64: 8 • 09:00-12:00 [2nd year – Information] Longo: Cybersecurity in cyber physical systems | C64: 9 • 09:00-12:00 [2nd year – Information] Longo: Cybersecurity in cyber physical systems | D64: 10 | E64: 11 | F64: 12 | G64: 13
A65: 14 | B65: 15 • 10:00-12:00 [2nd year – Industrial] Francesco Arena: Innovative catalytic processes for energy production an… | C65: 16 | D65: 17 • 10:00-12:00 [2nd year – Industrial] Francesco Arena: Innovative catalytic processes for energy production an… | E65: 18 | F65: 19 | G65: 20
A66: 21 | B66: 22 • 10:00-12:00 [2nd year – Industrial] Francesco Arena: Innovative catalytic processes for energy production an… | C66: 23 | D66: 24 | E66: 25 | F66: 26 | G66: 27
A67: 28 | B67: 29 | C67: 30
A69: JULY 2027
A70: Monday | B70: Tuesday | C70: Wednesday | D70: Thursday | E70: Friday | F70: Saturday | G70: Sunday
D71: 1 | E71: 2 | F71: 3 | G71: 4
A72: 5 | B72: 6 | C72: 7 | D72: 8 | E72: 9 | F72: 10 | G72: 11
A73: 12 | B73: 13 | C73: 14 | D73: 15 | E73: 16 | F73: 17 | G73: 18
A74: 19 | B74: 20 • 09:00-12:00 [1st year] Mastronardo: Marie Sklodowska-Curie Actions Postdoctoral Fellowship … | C74: 21 | D74: 22 | E74: 23 | F74: 24 | G74: 25
A75: 26 | B75: 27 | C75: 28 | D75: 29 | E75: 30 | F75: 31

Sheet Course summary
A1: Status of lesson dates against the teaching plan (Annex 1)
A2: The 'Dates entered' and 'Status' columns are formulas on the 'Consolidated data' sheet (column H): they update when rows are added.
A4: Year of study | B4: Type | C4: Course | D4: Lecturer | E4: Curriculum | F4: Language | G4: ECTS | H4: SSD | I4: Hours | J4: Dates entered | K4: First lesson | L4: Last lesson | M4: Status
A5: 1st year (cycle XLII) | B5: Compulsory | C5: On-demand manufacturing and prototyping in extreme environments and resource-limited contexts | D5: Guido Di Bella | E5: All | F5: English | G5: 1 | H5: IIND-04/A | I5: 6 | J5: =COUNTIFS('Consolidated data'!$H:$H,C5,'Consolidated data'!$C:$C,"<>") -> 2 | K5: =IF(J5=0,"",_xlfn.MINIFS('Consolidated data'!$C:$C,'Consolidated data'!$H:$H,C5)) -> 46434 | L5: =IF(J5=0,"",_xlfn.MAXIFS('Consolidated data'!$C:$C,'Consolidated data'!$H:$H,C5)) -> 46435 | M5: =IF(J5=0,"Dates missing","Dates entered") -> Dates entered
A6: 1st year (cycle XLII) | B6: Compulsory | C6: Hardware and software for data acquisition and processing | D6: Gino Giusi | E6: All | F6: English | G6: 1 | H6: IINF-01/A | I6: 6 | J6: =COUNTIFS('Consolidated data'!$H:$H,C6,'Consolidated data'!$C:$C,"<>") -> 0 | K6: =IF(J6=0,"",_xlfn.MINIFS('Consolidated data'!$C:$C,'Consolidated data'!$H:$H,C6)) | L6: =IF(J6=0,"",_xlfn.MAXIFS('Consolidated data'!$C:$C,'Consolidated data'!$H:$H,C6)) | M6: =IF(J6=0,"Dates missing","Dates entered") -> Dates missing
A7: 1st year (cycle XLII) | B7: Compulsory | C7: Mathematical models for engineering | D7: Giovanna Valenti | E7: All | F7: English | G7: 1 | H7: MATH-04/A | I7: 6 | J7: =COUNTIFS('Consolidated data'!$H:$H,C7,'Consolidated data'!$C:$C,"<>") -> 0 | K7: =IF(J7=0,"",_xlfn.MINIFS('Consolidated data'!$C:$C,'Consolidated data'!$H:$H,C7)) | L7: =IF(J7=0,"",_xlfn.MAXIFS('Consolidated data'!$C:$C,'Consolidated data'!$H:$H,C7)) | M7: =IF(J7=0,"Dates missing","Dates entered") -> Dates missing
A8: 1st year (cycle XLII) | B8: Compulsory | C8: Ecological and digital transition (Materials and technologies for the circular economy) | D8: Fabio Minutoli | E8: All | F8: English | G8: 1 | H8: CEAR-08/A | I8: 6 | J8: =COUNTIFS('Consolidated data'!$H:$H,C8,'Consolidated data'!$C:$C,"<>") -> 2 | K8: =IF(J8=0,"",_xlfn.MINIFS('Consolidated data'!$C:$C,'Consolidated data'!$H:$H,C8)) -> 46422 | L8: =IF(J8=0,"",_xlfn.MAXIFS('Consolidated data'!$C:$C,'Consolidated data'!$H:$H,C8)) -> 46423 | M8: =IF(J8=0,"Dates missing","Dates entered") -> Dates entered
A9: 1st year (cycle XLII) | B9: Elective | C9: Polymer matrix nanocomposites | D9: Annamaria Visco | E9: Industrial Eng. | F9: English | G9: 1 | H9: IMAT-01/A | I9: 6 | J9: =COUNTIFS('Consolidated data'!$H:$H,C9,'Consolidated data'!$C:$C,"<>") -> 2 | K9: =IF(J9=0,"",_xlfn.MINIFS('Consolidated data'!$C:$C,'Consolidated data'!$H:$H,C9)) -> 46429 | L9: =IF(J9=0,"",_xlfn.MAXIFS('Consolidated data'!$C:$C,'Consolidated data'!$H:$H,C9)) -> 46430 | M9: =IF(J9=0,"Dates missing","Dates entered") -> Dates entered
A10: 1st year (cycle XLII) | B10: Elective | C10: Technologies and sensors for industrial applications | D10: Giovanni Neri | E10: Industrial Eng. | F10: English | G10: 1 | H10: CHEM-06/A | I10: 6 | J10: =COUNTIFS('Consolidated data'!$H:$H,C10,'Consolidated data'!$C:$C,"<>") -> 0 | K10: =IF(J10=0,"",_xlfn.MINIFS('Consolidated data'!$C:$C,'Consolidated data'!$H:$H,C10)) | L10: =IF(J10=0,"",_xlfn.MAXIFS('Consolidated data'!$C:$C,'Consolidated data'!$H:$H,C10)) | M10: =IF(J10=0,"Dates missing","Dates entered") -> Dates missing
A11: 1st year (cycle XLII) | B11: Elective | C11: Mechanical gears vs magnetic gears | D11: Francesca Garescì | E11: Industrial Eng. | F11: English | G11: 1 | H11: IIND-02/A | I11: 6 | J11: =COUNTIFS('Consolidated data'!$H:$H,C11,'Consolidated data'!$C:$C,"<>") -> 2 | K11: =IF(J11=0,"",_xlfn.MINIFS('Consolidated data'!$C:$C,'Consolidated data'!$H:$H,C11)) -> 46413 | L11: =IF(J11=0,"",_xlfn.MAXIFS('Consolidated data'!$C:$C,'Consolidated data'!$H:$H,C11)) -> 46415 | M11: =IF(J11=0,"Dates missing","Dates entered") -> Dates entered
A12: 1st year (cycle XLII) | B12: Elective | C12: Innovative cable structures for long spans | D12: Antonino Recupero | E12: Civil Eng. and Architecture | F12: Italian | G12: 1 | H12: CEAR-07/A | I12: 6 | J12: =COUNTIFS('Consolidated data'!$H:$H,C12,'Consolidated data'!$C:$C,"<>") -> 0 | K12: =IF(J12=0,"",_xlfn.MINIFS('Consolidated data'!$C:$C,'Consolidated data'!$H:$H,C12)) | L12: =IF(J12=0,"",_xlfn.MAXIFS('Consolidated data'!$C:$C,'Consolidated data'!$H:$H,C12)) | M12: =IF(J12=0,"Dates missing","Dates entered") -> Dates missing
A13: 1st year (cycle XLII) | B13: Elective | C13: Sustainable management of cultural heritage | D13: Adriana Arena | E13: Civil Eng. and Architecture | F13: Italian | G13: 1 | H13: CEAR-10/A | I13: 6 | J13: =COUNTIFS('Consolidated data'!$H:$H,C13,'Consolidated data'!$C:$C,"<>") -> 3 | K13: =IF(J13=0,"",_xlfn.MINIFS('Consolidated data'!$C:$C,'Consolidated data'!$H:$H,C13)) -> 46406 | L13: =IF(J13=0,"",_xlfn.MAXIFS('Consolidated data'!$C:$C,'Consolidated data'!$H:$H,C13)) -> 46420 | M13: =IF(J13=0,"Dates missing","Dates entered") -> Dates entered
A14: 1st year (cycle XLII) | B14: Elective | C14: Discrete-event simulation | D14: Marco Lucio Scarpa | E14: Information Eng. | F14: English | G14: 1 | H14: IINF-05/A | I14: 6 | J14: =COUNTIFS('Consolidated data'!$H:$H,C14,'Consolidated data'!$C:$C,"<>") -> 2 | K14: =IF(J14=0,"",_xlfn.MINIFS('Consolidated data'!$C:$C,'Consolidated data'!$H:$H,C14)) -> 46499 | L14: =IF(J14=0,"",_xlfn.MAXIFS('Consolidated data'!$C:$C,'Consolidated data'!$H:$H,C14)) -> 46506 | M14: =IF(J14=0,"Dates missing","Dates entered") -> Dates entered
A15: 1st year (cycle XLII) | B15: Elective | C15: Programming of Programmable Logic Controllers (PLC) | D15: Riccardo Caponetto | E15: Information Eng. | F15: English | G15: 1 | H15: IINF-04/A | I15: 6 | J15: =COUNTIFS('Consolidated data'!$H:$H,C15,'Consolidated data'!$C:$C,"<>") -> 0 | K15: =IF(J15=0,"",_xlfn.MINIFS('Consolidated data'!$C:$C,'Consolidated data'!$H:$H,C15)) | L15: =IF(J15=0,"",_xlfn.MAXIFS('Consolidated data'!$C:$C,'Consolidated data'!$H:$H,C15)) | M15: =IF(J15=0,"Dates missing","Dates entered") -> Dates missing
A16: 1st year (cycle XLII) | B16: Elective | C16: Networks and protocols for Industry 4.0 | D16: Giuseppe Campobello | E16: Information Eng. | F16: English | G16: 1 | H16: IINF-03/A | I16: 6 | J16: =COUNTIFS('Consolidated data'!$H:$H,C16,'Consolidated data'!$C:$C,"<>") -> 3 | K16: =IF(J16=0,"",_xlfn.MINIFS('Consolidated data'!$C:$C,'Consolidated data'!$H:$H,C16)) -> 46400 | L16: =IF(J16=0,"",_xlfn.MAXIFS('Consolidated data'!$C:$C,'Consolidated data'!$H:$H,C16)) -> 46414 | M16: =IF(J16=0,"Dates missing","Dates entered") -> Dates entered
... A43: 3rd year (cycle XL) | B43: Elective | C43: Measurement uncertainty estimation in experimental activities | D43: Fabrizio Freni | E43: Information Eng. | F43: English | G43: 1 | H43: MIS-01/A | I43: 6 | J43: =COUNTIFS('Consolidated data'!$H:$H,C43,'Consolidated data'!$C:$C,"<>") -> 2 | K43: =IF(J43=0,"",_xlfn.MINIFS('Consolidated data'!$C:$C,'Consolidated data'!$H:$H,C43)) -> 46491 | L43: =IF(J43=0,"",_xlfn.MAXIFS('Consolidated data'!$C:$C,'Consolidated data'!$H:$H,C43)) -> 46498 | M43: =IF(J43=0,"Dates missing","Dates entered") -> Dates entered
C45: Summary
C46: 1st year (cycle XLII) | D46: =COUNTIF($A$5:$A$43,C46)&" courses" -> 15 courses | E46: =COUNTIFS($A$5:$A$43,C46,$J$5:$J$43,">0")&" with dates" -> 9 with dates | F46: =COUNTIFS($A$5:$A$43,C46,$J$5:$J$43,0)&" without dates" -> 6 without dates
C47: 2nd year (cycle XLI) | D47: =COUNTIF($A$5:$A$43,C47)&" courses" -> 15 courses | E47: =COUNTIFS($A$5:$A$43,C47,$J$5:$J$43,">0")&" with dates" -> 11 with dates | F47: =COUNTIFS($A$5:$A$43,C47,$J$5:$J$43,0)&" without dates" -> 4 without dates
C48: 3rd year (cycle XL) | D48: =COUNTIF($A$5:$A$43,C48)&" courses" -> 9 courses | E48: =COUNTIFS($A$5:$A$43,C48,$J$5:$J$43,">0")&" with dates" -> 5 with dates | F48: =COUNTIFS($A$5:$A$43,C48,$J$5:$J$43,0)&" without dates" -> 4 without dates
C49: Total | D49: =COUNTA($C$5:$C$43)&" courses" -> 39 courses | E49: =COUNTIF($J$5:$J$43,">0")&" with dates" -> 25 with dates | F49: =COUNTIF($J$5:$J$43,0)&" without dates" -> 14 without dates
